BEGIN:VCALENDAR
VERSION:2.0
PRODID:-//LD28GOP - ECPv6.15.17.1//NONSGML v1.0//EN
CALSCALE:GREGORIAN
METHOD:PUBLISH
X-ORIGINAL-URL:https://www.ld28gop.com
X-WR-CALDESC:Events for LD28GOP
REFRESH-INTERVAL;VALUE=DURATION:PT1H
X-Robots-Tag:noindex
X-PUBLISHED-TTL:PT1H
BEGIN:VTIMEZONE
TZID:UTC
BEGIN:STANDARD
TZOFFSETFROM:+0000
TZOFFSETTO:+0000
TZNAME:UTC
DTSTART:20230101T000000
END:STANDARD
END:VTIMEZONE
BEGIN:VEVENT
DTSTART;TZID=UTC:20240619T160000
DTEND;TZID=UTC:20240619T203000
DTSTAMP:20260422T161022
CREATED:20240615T213603Z
LAST-MODIFIED:20240615T213603Z
UID:115-1718812800-1718829000@www.ld28gop.com
SUMMARY:West Valley Republicans & United Patriots of Arizona EVENT at TYR Tactical
DESCRIPTION:
URL:https://www.ld28gop.com/event/west-valley-republicans-united-patriots-of-arizona-event-at-tyr-tactical/
LOCATION:TYR Tactical\, 9330 N 91st Ave\, Peoria\, Arizona\, 85345
ATTACH;FMTTYPE=image/jpeg:https://www.ld28gop.com/wp-content/uploads/2024/06/123_1-5.jpeg
END:VEVENT
END:VCALENDAR