BEGIN:VCALENDAR
VERSION:2.0
PRODID:-//LD28GOP - ECPv6.15.17.1//NONSGML v1.0//EN
CALSCALE:GREGORIAN
METHOD:PUBLISH
X-ORIGINAL-URL:https://www.ld28gop.com
X-WR-CALDESC:Events for LD28GOP
REFRESH-INTERVAL;VALUE=DURATION:PT1H
X-Robots-Tag:noindex
X-PUBLISHED-TTL:PT1H
BEGIN:VTIMEZONE
TZID:UTC
BEGIN:STANDARD
TZOFFSETFROM:+0000
TZOFFSETTO:+0000
TZNAME:UTC
DTSTART:20230101T000000
END:STANDARD
END:VTIMEZONE
BEGIN:VEVENT
DTSTART;TZID=UTC:20240622T133000
DTEND;TZID=UTC:20240622T170000
DTSTAMP:20260422T161037
CREATED:20240614T174134Z
LAST-MODIFIED:20240614T174134Z
UID:89-1719063000-1719075600@www.ld28gop.com
SUMMARY:SCW Primary Candidate Forum
DESCRIPTION:
URL:https://www.ld28gop.com/event/scw-primary-candidate-forum/
LOCATION:Palm Ridge Recreation Center\, 13800 W Deer Valley Drive\, Sun city west\, AZ\, 85375\, United States
ATTACH;FMTTYPE=image/png:https://www.ld28gop.com/wp-content/uploads/2024/06/Candidate-Forum-June-22nd-flyer.png
END:VEVENT
END:VCALENDAR