BEGIN:VCALENDAR
VERSION:2.0
PRODID:-//LD28GOP - ECPv6.15.17.1//NONSGML v1.0//EN
CALSCALE:GREGORIAN
METHOD:PUBLISH
X-WR-CALNAME:LD28GOP
X-ORIGINAL-URL:https://www.ld28gop.com
X-WR-CALDESC:Events for LD28GOP
REFRESH-INTERVAL;VALUE=DURATION:PT1H
X-Robots-Tag:noindex
X-PUBLISHED-TTL:PT1H
BEGIN:VTIMEZONE
TZID:UTC
BEGIN:STANDARD
TZOFFSETFROM:+0000
TZOFFSETTO:+0000
TZNAME:UTC
DTSTART:20230101T000000
END:STANDARD
END:VTIMEZONE
BEGIN:VEVENT
DTSTART;TZID=UTC:20240627T173000
DTEND;TZID=UTC:20240627T203000
DTSTAMP:20260422T160701
CREATED:20240614T150949Z
LAST-MODIFIED:20240614T150949Z
UID:55-1719509400-1719520200@www.ld28gop.com
SUMMARY:CD8 Presidential Debate Watch Party - Hosted by Abe Hamadeh
DESCRIPTION:
URL:https://www.ld28gop.com/event/cd8-presidential-debate-watch-party-hosted-by-abe-hamadeh/
LOCATION:Westbrook Village Vistas Ballroom\, 18825 N. Country Club Pkwy\, Peoria\, AZ\, 85382\, United States
ATTACH;FMTTYPE=image/jpeg:https://www.ld28gop.com/wp-content/uploads/2024/06/Watch-party.jpg
END:VEVENT
END:VCALENDAR