BEGIN:VCALENDAR
VERSION:2.0
PRODID:-//LD28GOP - ECPv6.15.17.1//NONSGML v1.0//EN
CALSCALE:GREGORIAN
METHOD:PUBLISH
X-WR-CALNAME:LD28GOP
X-ORIGINAL-URL:https://www.ld28gop.com
X-WR-CALDESC:Events for LD28GOP
REFRESH-INTERVAL;VALUE=DURATION:PT1H
X-Robots-Tag:noindex
X-PUBLISHED-TTL:PT1H
BEGIN:VTIMEZONE
TZID:UTC
BEGIN:STANDARD
TZOFFSETFROM:+0000
TZOFFSETTO:+0000
TZNAME:UTC
DTSTART:20230101T000000
END:STANDARD
END:VTIMEZONE
BEGIN:VEVENT
DTSTART;TZID=UTC:20240916T183000
DTEND;TZID=UTC:20240916T203000
DTSTAMP:20260422T173353
CREATED:20240831T195230Z
LAST-MODIFIED:20240831T195230Z
UID:220-1726511400-1726518600@www.ld28gop.com
SUMMARY:LD28 PC Only Training - Current PCs and PCs effective Oct 1st
DESCRIPTION:
URL:https://www.ld28gop.com/event/ld28-pc-only-training-current-pcs-and-pcs-effective-oct-1st/
LOCATION:Westbrook Village Vistas Ballroom\, 18825 N. Country Club Pkwy\, Peoria\, AZ\, 85382\, United States
END:VEVENT
BEGIN:VEVENT
DTSTART;TZID=UTC:20240916T183000
DTEND;TZID=UTC:20240916T203000
DTSTAMP:20260422T173353
CREATED:20240911T225238Z
LAST-MODIFIED:20240911T225238Z
UID:244-1726511400-1726518600@www.ld28gop.com
SUMMARY:LD28 September Meeting - PC Training
DESCRIPTION:Calling ALL PCs – current and all newly elected as of October 1\, 2024! \nJoin us Septembr 16\, 2024 for a comprehensive LD28 wide PC training. Please read thoroughly as there is important information you need to know for this training. \nWe ask that ONLY current and newly elected PCs as of October 1st attend. Your significant other will be permitted\, however no other guests please.  \nPatriot Potluck 5:30pm – 6:30pm\nBring a side to share! \nSalad\, pasta\, chips\, beans\, casserole\, dips\, potato salad\, and desserts are always welcome! \nSub Sandwiches – $5 cash donation\nPlease bring cash for your dinner donation or pay online at the button below. Thank you! \nTraining Begins: 6:30pm \nWestbrook Village Vistas Ballroom\n18825 N Country Club Pkwy \nPeoria\, AZ 85382 \n***DOORS OPEN AT 5:30pm. PLEASE DO NOT ARRIVE EARLIER THAN 5:30pm. *** \n\n\n\n\n\n\n\n\n\n\n\n\nLD28 WIDE TRAINING AGENDA\n\n\n\n\n\n\n\n\n\n\n\n\n\n\n\n\n\n\n\n\n\n\n\n\n\nPC Handbook Review – Monet Bacs & Bill Mitchell\n*If you would like a printed copy\, please download and print below\n\nComprehensive Voter Spectrum & Ballot Chasing Training\nSusan Ellsworth & Marcia Weiss\nPlease complete the access form below prior to the meeting if possible.\n\nGOP Data Center Overview \nPlease complete the form below. ALL PCs must complete for new term. Bring signed and printed form to Carisa on 9/16.\n\nSignature Verification Curing Canvass Before General – Chris Hansel\nPlease print and review the documents below. \n\nGetting Involved & Engaged to Save Arizona – Shelby Bush\, MCRC 1st VC\n\nPC Best Practices & Sharing – PC Captains\n\nGolden Ticket Training & Distribution – LD28 Executive Board\n\n\n\n\n\n\n\n\n\n\n\n\n\n  \n  \n  \nTraining for current Precinct Committeemen and newly elected PCs effective October 1st ONLY.\nNO GUESTS – Spouses or significant others only\n  \n  \n\n 
URL:https://www.ld28gop.com/event/ld28-september-meeting-pc-training/
LOCATION:Westbrook Village Vistas Ballroom\, 18825 N. Country Club Pkwy\, Peoria\, AZ\, 85382\, United States
END:VEVENT
END:VCALENDAR