BEGIN:VCALENDAR
VERSION:2.0
PRODID:-//LD28GOP - ECPv6.15.17.1//NONSGML v1.0//EN
CALSCALE:GREGORIAN
METHOD:PUBLISH
X-WR-CALNAME:LD28GOP
X-ORIGINAL-URL:https://www.ld28gop.com
X-WR-CALDESC:Events for LD28GOP
REFRESH-INTERVAL;VALUE=DURATION:PT1H
X-Robots-Tag:noindex
X-PUBLISHED-TTL:PT1H
BEGIN:VTIMEZONE
TZID:UTC
BEGIN:STANDARD
TZOFFSETFROM:+0000
TZOFFSETTO:+0000
TZNAME:UTC
DTSTART:20230101T000000
END:STANDARD
END:VTIMEZONE
BEGIN:VEVENT
DTSTART;TZID=UTC:20240928T100000
DTEND;TZID=UTC:20240928T120000
DTSTAMP:20260422T173354
CREATED:20240916T192913Z
LAST-MODIFIED:20240916T192913Z
UID:253-1727517600-1727524800@www.ld28gop.com
SUMMARY:LD28 Board Informational Meeting - Interested in running for the Board?
DESCRIPTION:Interested in running for the new LD28 Board in November?  \nJoin us for detailed information on roles\, responsibilities\, bylaws and ask us all of your questions! \nThe entire Board will be in attendance.  \nLD28 Board Informational Meeting \nSaturday\, September 28\, 2024 \n10a-12p \nWest Valley Republican Office
URL:https://www.ld28gop.com/event/ld28-board-informational-meeting-interested-in-running-for-the-board/
LOCATION:WVRO\, 10147 W Grand Ave Suite B4\, Sun City\, 85351\, United States
END:VEVENT
BEGIN:VEVENT
DTSTART;TZID=UTC:20240928T120000
DTEND;TZID=UTC:20240928T163000
DTSTAMP:20260422T173354
CREATED:20240916T193337Z
LAST-MODIFIED:20240916T193337Z
UID:256-1727524800-1727541000@www.ld28gop.com
SUMMARY:SCW Republicans - General Election Republican Rally
DESCRIPTION:General Election Republican Rally\n\n\nDoors Open at 12:00 PM \nSaturday\, Sept 28\, 2024 – 12:30PM – 4:30PM \nPalm Ridge Recreation Center – Summit Hall \n13800 Deer Valley Drive\, Sun City West\, AZ. 85375 \nGuest Speakers – *Shane Krauser – Attorney\, Freedom Advocate  \n  \n*Gina Maloney – 1st Vice Chair of AZ Republican Party \n ***Meet the Candidates \n          ***Learn About the Propositions \n *Sponsored by the Sun City West Republican Club* \nContact Linda Barnes – SCW Rep Club VP – 949-533-3277 \nVicePresident@SCWrepublicans.com
URL:https://www.ld28gop.com/event/scw-republicans-general-election-republican-rally/
LOCATION:Palm Ridge Recreation Center Summit Hall\, 13800 Deer Valley Drive\, Sun City West\, AZ\, 85375
END:VEVENT
END:VCALENDAR