BEGIN:VCALENDAR
VERSION:2.0
PRODID:-//LD28GOP - ECPv6.15.17.1//NONSGML v1.0//EN
CALSCALE:GREGORIAN
METHOD:PUBLISH
X-ORIGINAL-URL:https://www.ld28gop.com
X-WR-CALDESC:Events for LD28GOP
REFRESH-INTERVAL;VALUE=DURATION:PT1H
X-Robots-Tag:noindex
X-PUBLISHED-TTL:PT1H
BEGIN:VTIMEZONE
TZID:UTC
BEGIN:STANDARD
TZOFFSETFROM:+0000
TZOFFSETTO:+0000
TZNAME:UTC
DTSTART:20240101T000000
END:STANDARD
END:VTIMEZONE
BEGIN:VEVENT
DTSTART;TZID=UTC:20250111T080000
DTEND;TZID=UTC:20250111T180000
DTSTAMP:20260423T004705
CREATED:20241220T172824Z
LAST-MODIFIED:20241220T172824Z
UID:385-1736582400-1736618400@www.ld28gop.com
SUMMARY:Mandatory MCRC meeting for all PC's.
DESCRIPTION:
URL:https://www.ld28gop.com/event/mandatory-mcrc-meeting-for-all-pcs/
LOCATION:Dream City Church\, 13613 N Cave Creek Rd\, Phoenix
END:VEVENT
END:VCALENDAR