BEGIN:VCALENDAR
VERSION:2.0
PRODID:-//LD28GOP - ECPv6.15.17.1//NONSGML v1.0//EN
CALSCALE:GREGORIAN
METHOD:PUBLISH
X-ORIGINAL-URL:https://www.ld28gop.com
X-WR-CALDESC:Events for LD28GOP
REFRESH-INTERVAL;VALUE=DURATION:PT1H
X-Robots-Tag:noindex
X-PUBLISHED-TTL:PT1H
BEGIN:VTIMEZONE
TZID:America/Denver
BEGIN:DAYLIGHT
TZOFFSETFROM:-0700
TZOFFSETTO:-0600
TZNAME:MDT
DTSTART:20240310T090000
END:DAYLIGHT
BEGIN:STANDARD
TZOFFSETFROM:-0600
TZOFFSETTO:-0700
TZNAME:MST
DTSTART:20241103T080000
END:STANDARD
BEGIN:DAYLIGHT
TZOFFSETFROM:-0700
TZOFFSETTO:-0600
TZNAME:MDT
DTSTART:20250309T090000
END:DAYLIGHT
BEGIN:STANDARD
TZOFFSETFROM:-0600
TZOFFSETTO:-0700
TZNAME:MST
DTSTART:20251102T080000
END:STANDARD
BEGIN:DAYLIGHT
TZOFFSETFROM:-0700
TZOFFSETTO:-0600
TZNAME:MDT
DTSTART:20260308T090000
END:DAYLIGHT
BEGIN:STANDARD
TZOFFSETFROM:-0600
TZOFFSETTO:-0700
TZNAME:MST
DTSTART:20261101T080000
END:STANDARD
END:VTIMEZONE
BEGIN:VTIMEZONE
TZID:UTC
BEGIN:STANDARD
TZOFFSETFROM:+0000
TZOFFSETTO:+0000
TZNAME:UTC
DTSTART:20240101T000000
END:STANDARD
END:VTIMEZONE
BEGIN:VEVENT
DTSTART;TZID=America/Denver:20250607T090000
DTEND;TZID=America/Denver:20250607T110000
DTSTAMP:20260422T221431
CREATED:20250511T231229Z
LAST-MODIFIED:20250511T231229Z
UID:483-1749286800-1749294000@www.ld28gop.com
SUMMARY:Sun City West Republican Club May Event
DESCRIPTION:Monthly Meeting.  Special Guest is Jerry Sheridan\, Maricopa County Sheriff. \nLocation is Church on the Green.  This is located “behind ” the Wallgreens at Johnson and Camino Del Sol.  While you can enter from either side\, it may be easier to enter from Camino Del Sol\, then drive past the Walgreens building on your left.  The church sill be “dead ahead”.
URL:https://www.ld28gop.com/event/sun-city-west-republican-club-may-event/
LOCATION:church on the green\, 19051 N R H Johnson Blvd\, Sun city west\, 85375\, United States
END:VEVENT
BEGIN:VEVENT
DTSTART;TZID=UTC:20250616T183000
DTEND;TZID=UTC:20250616T203000
DTSTAMP:20260422T221431
CREATED:20250227T053445Z
LAST-MODIFIED:20250421T041446Z
UID:433-1750098600-1750105800@www.ld28gop.com
SUMMARY:Monthly LD 28 Meeting
DESCRIPTION:
URL:https://www.ld28gop.com/event/monthly-ld-28-meeting-3/
LOCATION:Westbrook Village Vistas Ballroom\, 18825 N. Country Club Pkwy\, Peoria\, AZ\, 85382\, United States
END:VEVENT
BEGIN:VEVENT
DTSTART;TZID=America/Denver:20250714T183000
DTEND;TZID=America/Denver:20250714T200000
DTSTAMP:20260422T221431
CREATED:20250711T234722Z
LAST-MODIFIED:20250711T234722Z
UID:505-1752517800-1752523200@www.ld28gop.com
SUMMARY:West Valley Republican & Independent Coalition Meeting
DESCRIPTION:JUL 14 MON 6:30 pm The WEST VALLEY REPUBLICAN & \nINDEPENDENT COALITION meeting. This month we have two \nspecial guest speakers. Constable Scott Blake\, running for re-election in \n2026\, will discuss the role of constables in law enforcement. He will also \ntalk about civilian response and relate some of the unusual cases he has \nworked on. Constable Blake is currently the President of the AZ Constable \nAssociation. Our second speaker will be Rachel Alexander\, a conservative \njournalist and editor of the Intellectual Conservative. She previously served \nas an Assistant Attorney General for the State of Arizona where she was the \nattorney for Maricopa County Elections and a prosecutor. She will be \nspeaking about election fraud\, lawfare and media-bias focusing on the latest \nnews with emphasis on Arizona. Members and non-members are welcome \nso bring a friend\, bring a neighbor. Doors open at 6pm. Refreshments.
URL:https://www.ld28gop.com/event/west-valley-republican-independent-coalition-meeting/
LOCATION:WVRO\, 10147 W Grand Ave Suite B4\, Sun City\, 85351\, United States
END:VEVENT
BEGIN:VEVENT
DTSTART;TZID=America/Denver:20250716T180000
DTEND;TZID=America/Denver:20250716T200000
DTSTAMP:20260422T221431
CREATED:20250711T235239Z
LAST-MODIFIED:20250711T235239Z
UID:507-1752688800-1752696000@www.ld28gop.com
SUMMARY:West Valley United Patriots Meeting/training with Special Guest Shane Krauser
DESCRIPTION:JUL 16 WED 6:30 pm WEST VALLEY UNITED \nPATRIOTS Shane Krauser is “on fire” about \nteaching the US Constitution. We’ll talk about \ncurrent issues in the news now. Are they \nConstitutional? Or not? Come and be empowered by \nwhat you learn. Bring a neighbor! Bring a friend! \nEveryone is welcome. \nAudience participation\, interactive debate\, prizes and \nrefreshments. Doors open at 6:00pm.
URL:https://www.ld28gop.com/event/west-valley-united-patriots-meeting-training-with-special-guest-shane-krauser/
LOCATION:WVRO\, 10147 W Grand Ave Suite B4\, Sun City\, 85351\, United States
END:VEVENT
BEGIN:VEVENT
DTSTART;TZID=America/Denver:20250716T183000
DTEND;TZID=America/Denver:20250716T203000
DTSTAMP:20260422T221431
CREATED:20250713T225005Z
LAST-MODIFIED:20250713T225005Z
UID:518-1752690600-1752697800@www.ld28gop.com
SUMMARY:Support the Maricopa County Sheriff’s Office from non stop monies going to Federal Monitor
DESCRIPTION:You undoubtedly are familiar with the situation where a federal monitor has been overseeing the Maricopa County Sheriff’s Office for well over a decade.  This “oversight” has cost Maricopa County taxpayers around $350 million.   While President Trump has backed the DOJ off of local law enforcement\, this will not help MCSO because the oversight is being controlled by a federal judge.  THERE IS NO END IN SIGHT and there is no incentive for the monitor to wrap things up. \n\nHere is a link to a story recapping this situation.  https://www.azfamily.com/2024/02/24/mcso-monitor-defends-26-million-his-firm-has-been-paid/. Bear in mind that the story is from February 2024\, so the cost has gone up.  Here is a link to an OpEd I wrote (that discusses MCSO) when DOJ was trying to take over Phoenix PD:  https://www.azcentral.com/story/opinion/op-ed/2024/07/05/doj-report-phoenix-police-maricopa-county-attorney/74294939007/\n\nWhat can you do?  On Wednesday\, the federal monitor will host a community meeting to hear how community members view the MCSO.  The results of the meeting will be relayed back to the judge.  In the past\, these meetings seemed to have a select group of people who oppose MCSO.  This needs to change – the majority needs to be heard.\n\nPlease attend and send word of this meeting to others on any lists you have:\n\n\n\n– Date: July 16th (Wed) \n– Time: 6:30pm to 8:30pm \n– Venue: Desert West Community Center (6501 W Virginia Ave\, Phoenix\, AZ 85035 \nhttps://www.google.com/maps/search/6501+W+Virginia+Ave\,+Phoenix\,+AZ+85035?entry=gmail&source=g \nTALKING POINTS: \n-This has gone on long enough – it has cost far too much. \n-These resources should go to hiring more deputies\, pay raises\, training\, and equipment – not in a monitor’s or the ACLU’s pocket. \n-We believe in Sheriff Sheridan – and support him to keep our community safe. \n\n\nAny questions?  Contact Brandon Hiller who is on this email.\n\nSent by Peggy Jacobs\nChair\, LD28\n719 238-3910
URL:https://www.ld28gop.com/event/support-the-maricopa-county-sheriffs-office-from-non-stop-monies-going-to-federal-monitor/
LOCATION:Desert West Community Center 6501 W Virginai Ave\, Phoenix Az 85305\, 6501 W Virginia Ave\, Phoenix\, arizona\, 85305\, United States
END:VEVENT
BEGIN:VEVENT
DTSTART;TZID=America/Denver:20250719T093000
DTEND;TZID=America/Denver:20250719T103000
DTSTAMP:20260422T221431
CREATED:20250713T224053Z
LAST-MODIFIED:20250713T224053Z
UID:516-1752917400-1752921000@www.ld28gop.com
SUMMARY:PC training for all new and old PC's interested in getting information and questions answered
DESCRIPTION:FOR WHO-geared for newer-new PCs but beneficial for all\n\nDATE-Saturday\, 7/19\n\nNEW Start-End Times-9:30-10:30 with time afterwards for questions as needed.\n(Time change is so interested PCs can attend Frank Rizzo’s Memorial Service)\n\nWHERE-West Valley Republican and Independent Office (WVRO)\n10147 W. Grand Ave. Ste B4\, Sun City\n\nPRESENTERS-Corky Haynes\, Barb Wylie\, and Will Feierabend\n\nCONTENT:\n1.  You are a volunteer.  We will answer YOUR questions.\n\n2.  We will cover the MAIN goal of a PC.\n3.  We will share information to help you get involved depending on your interests and your time in connecting with your 125 PCs and other interests.\n\n\nRSVP: Reply to this email or call/text Peggy at 719 238-3910.
URL:https://www.ld28gop.com/event/pc-training-for-all-new-and-old-pcs-interested-in-getting-information-and-questions-answered/
LOCATION:WVRO\, 10147 W Grand Ave Suite B4\, Sun City\, 85351\, United States
END:VEVENT
BEGIN:VEVENT
DTSTART;TZID=America/Denver:20250816T100000
DTEND;TZID=America/Denver:20250816T120000
DTSTAMP:20260422T221431
CREATED:20250728T035234Z
LAST-MODIFIED:20250728T035234Z
UID:530-1755338400-1755345600@www.ld28gop.com
SUMMARY:PC training for all new PC's interested in getting information and questions answered
DESCRIPTION:FOR WHO – geared for newer -new PC’s but beneficial for all \nDate – Saturday\, 8/16/2025 \nNew Start Time – 10am – 12pm (noon) with time afterwards for questions as needed
URL:https://www.ld28gop.com/event/pc-training-for-all-new-pcs-interested-in-getting-information-and-questions-answered/
LOCATION:WVRO\, 10147 W Grand Ave Suite B4\, Sun City\, 85351\, United States
END:VEVENT
BEGIN:VEVENT
DTSTART;TZID=America/Denver:20250830T100000
DTEND;TZID=America/Denver:20250830T113000
DTSTAMP:20260422T221431
CREATED:20250819T044131Z
LAST-MODIFIED:20250819T044131Z
UID:542-1756548000-1756553400@www.ld28gop.com
SUMMARY:Small Group Outreach Training
DESCRIPTION:Elaine is offering a training for door knocking and text campaigns. The event will be at a PC’s home\, please RSVP to LD Chair Peggy Jacobs. Space is limited\, only the first 8 RSVPs will be invited. \nSaturday August 30\, 10am-11:30am
URL:https://www.ld28gop.com/event/small-group-outreach-training/
END:VEVENT
BEGIN:VEVENT
DTSTART;TZID=America/Denver:20250830T183000
DTEND;TZID=America/Denver:20250830T203000
DTSTAMP:20260422T221431
CREATED:20250830T212106Z
LAST-MODIFIED:20250830T212106Z
UID:566-1756578600-1756585800@www.ld28gop.com
SUMMARY:LD 28 MONTHLY MEETING:  COME AND ENJOY PRESENTATIONS FROM OUR SPEAKERS
DESCRIPTION:Special Speakers include: \nRodney Glassman-Candidate for Attorney General \nKimberly Yee-Candidate for Superintendent of ED \nPlus other Elected Officials \n  \nDoors open at 6:00 with the Meeting starting at 6:30 \n  \n 
URL:https://www.ld28gop.com/event/ld-28-monthly-meeting-come-and-enjoy-presentations-from-our-speakers/
LOCATION:Westbrook Village Vistas Ballroom\, 18825 N. Country Club Pkwy\, Peoria\, AZ\, 85382\, United States
END:VEVENT
BEGIN:VEVENT
DTSTART;TZID=America/Denver:20250906T083000
DTEND;TZID=America/Denver:20250906T100000
DTSTAMP:20260422T221431
CREATED:20250830T200611Z
LAST-MODIFIED:20250902T214735Z
UID:552-1757147400-1757152800@www.ld28gop.com
SUMMARY:Sun City West Republican Club Regular Meeting.
DESCRIPTION:Guest Speakers: \nCandidate for AZ Attorney General:  Warren Petersen \nDr Scott Spurgeon\, Supt of West MEC Vocational Education Center. \nDoors Open at 8:30 am \nDoor open at 8:30 AM \n$3.00 Admission Fee for Non Members \nAlready a member?  You get in Free! \nNeed more information :  Contact SCW Republican VP Linda Barnes at: \np:  949-533-3277 \nE:  VicePresident@SCWREPUBLICANS.COM OR BarnesLK@AOL.com \n 
URL:https://www.ld28gop.com/event/sun-city-west-republican-club-special-event-2/
LOCATION:church on the green\, 19051 N R H Johnson Blvd\, Sun city west\, 85375\, United States
END:VEVENT
BEGIN:VEVENT
DTSTART;TZID=America/Denver:20250915T183000
DTEND;TZID=America/Denver:20250915T203000
DTSTAMP:20260422T221431
CREATED:20250728T035741Z
LAST-MODIFIED:20250830T210934Z
UID:532-1757961000-1757968200@www.ld28gop.com
SUMMARY:MONTHLY LD28 MEETING:  Please come and enjoy meeting Special Guest Speakers
DESCRIPTION:Special Guest Speakers for tonights meeting include: \nTom Horn-Superintendent of Education \nDr Scott Spurgeon-Superintendent of West-Mec \nHeather Rooks-Governing Board President of PUSD \n  \nDoors open at 6:00 and Meeting starts at 6:30
URL:https://www.ld28gop.com/event/monthly-ld28-meeting-3/
LOCATION:Westbrook Village Vistas Ballroom\, 18825 N. Country Club Pkwy\, Peoria\, AZ\, 85382\, United States
END:VEVENT
BEGIN:VEVENT
DTSTART;TZID=America/Denver:20250927T140000
DTEND;TZID=America/Denver:20250927T173000
DTSTAMP:20260422T221431
CREATED:20250511T233059Z
LAST-MODIFIED:20250902T215243Z
UID:489-1758981600-1758994200@www.ld28gop.com
SUMMARY:Sun City West Republican Club “Special Event”
DESCRIPTION:Special Guests are: \nCongressman Andy Biggs \nCongressman Paul Gosar\, \nAlex Kolodin Candidate for AZ Sec of State \nRodney Glassman Candidate for AZ Attorney General \nLocation is Palm Ridge Recreation Center: 13800 W Deer Valley Dr\, Sun City West\, AZ 85375 \nStart time is 2:00 PM.
URL:https://www.ld28gop.com/event/sun-city-west-republican-club-special-event/
LOCATION:Palm Ridge Recreation Center\, 13800 W Deer Valley Drive\, Sun city west\, AZ\, 85375\, United States
END:VEVENT
BEGIN:VEVENT
DTSTART;TZID=America/Denver:20251004T090000
DTEND;TZID=America/Denver:20251004T103000
DTSTAMP:20260422T221431
CREATED:20250830T203213Z
LAST-MODIFIED:20250902T215829Z
UID:557-1759568400-1759573800@www.ld28gop.com
SUMMARY:Sun City West Republican Club Presents "Corporation Commission Candidates: Ralph Heap and David Marshall"
DESCRIPTION:Come Listen to our Candidates for Corporation Commission Ralph Heap and David Marshall.  This is your opportunity to get answers to your questions in preparation for the upcoming Election. \nDoor open at 8:30 AM \n$3.00 Admission Fee for Non Members \nAlready a member?  You get in Free! \nNeed more information :  Contact SCW Republican VP Linda Barnes at: \np:  949-533-3277 \nE:  VicePresident@SCWREPUBLICANS.COM OR BarnesLK@AOL.com
URL:https://www.ld28gop.com/event/sun-city-west-republican-club-presents-corporation-commission-candidates-ralph-heap-and-david-marshall/
LOCATION:church on the green\, 19051 N R H Johnson Blvd\, Sun city west\, 85375\, United States
END:VEVENT
BEGIN:VEVENT
DTSTART;TZID=America/Denver:20251007T183000
DTEND;TZID=America/Denver:20251007T203000
DTSTAMP:20260422T221431
CREATED:20251004T152142Z
LAST-MODIFIED:20251004T152457Z
UID:618-1759861800-1759869000@www.ld28gop.com
SUMMARY:West Valley Republican & Independent Coalition
DESCRIPTION:OCT 7 TUE 6:30 -8:30 pm AZRA – AZ REPUBLICAN \nASSEMBLY Guest speaker: Alexander Kolodin\, 2026 Candidate for AZ \nSecretary of State. Alexander is a lawyer and previous member of the AZ \nHouse of Representatives. He is a very strong fighter for election integrity. \nMary Jane Ziola will be speaking on pro-life issues. We will finish Part 5 of \nthe Biblical Citizenship series. Pizza\, water\, coffee and Fellowship.
URL:https://www.ld28gop.com/event/west-valley-republican-independent-coalition/
LOCATION:WVRO\, 10147 W Grand Ave Suite B4\, Sun City\, 85351\, United States
END:VEVENT
BEGIN:VEVENT
DTSTART;TZID=America/Denver:20251010T180000
DTEND;TZID=America/Denver:20251010T200000
DTSTAMP:20260422T221431
CREATED:20251004T152403Z
LAST-MODIFIED:20251004T152403Z
UID:620-1760119200-1760126400@www.ld28gop.com
SUMMARY:OCT 10 FRI 6:00—8:00 pm PRAYER & MOVIE NIGHT
DESCRIPTION:Prayer Warrior\, Jim Clabaugh\, offers an evening of prayer and worship \nfollowed by the movie “The 1916 Project” by Seth Gruber. Charlie Kirk \nonce said “Seth Gruber is the most important voice in pro-life America.
URL:https://www.ld28gop.com/event/oct-10-fri-600-800-pm-prayer-movie-night/
LOCATION:WVRO\, 10147 W Grand Ave Suite B4\, Sun City\, 85351\, United States
END:VEVENT
BEGIN:VEVENT
DTSTART;TZID=America/Denver:20251013T183000
DTEND;TZID=America/Denver:20251013T203000
DTSTAMP:20260422T221431
CREATED:20251004T152844Z
LAST-MODIFIED:20251004T152844Z
UID:622-1760380200-1760387400@www.ld28gop.com
SUMMARY:OCT 13 MON 6:30 -8:30 pm WEST VALLEY REPUBLICAN & INDEPENDENT COALITION monthly meeting
DESCRIPTION:Guest speaker is \nJ.R. Rotchford of Rotchford & Associates Financial Services. He is also \nhost of Another Money Show on 950 The Patriot radio every Saturday at \nnoon. A popular speaker with humor and good advice\, he will be focusing \non crypto currency\, digital money and stable coin. Bring your questions. \nAlso\, Dr. Scott Spurgeon\, Superintendent of West-Mec will be talking on \nProp 403 and 406\, facts you need to know before voting on Nov 4. \nLight refreshments provided. Bring a friend or neighbor!
URL:https://www.ld28gop.com/event/oct-13-mon-630-830-pm-west-valley-republican-independent-coalition-monthly-meeting/
LOCATION:WVRO\, 10147 W Grand Ave Suite B4\, Sun City\, 85351\, United States
END:VEVENT
BEGIN:VEVENT
DTSTART;TZID=America/Denver:20251015T063000
DTEND;TZID=America/Denver:20251015T203000
DTSTAMP:20260422T221431
CREATED:20251004T153041Z
LAST-MODIFIED:20251004T153041Z
UID:624-1760509800-1760560200@www.ld28gop.com
SUMMARY:OCT 15 WED 6:30-8:30 pm WEST VALLEY UNITED PATRIOTS
DESCRIPTION:Constitutional scholar & author\, Shane Krauser\, is hosting speaker \nRodney Glassman\, 2026 Candidate for AZ State Attorney General. Shane \nencourages audience participation and creates lively\, interactive debates. \nDoor prizes\, 50/50 raffle\, and refreshments are a part of every meeting. \nBring a friend or neighbor. All are welcome !!
URL:https://www.ld28gop.com/event/oct-15-wed-630-830-pm-west-valley-united-patriots/
LOCATION:WVRO\, 10147 W Grand Ave Suite B4\, Sun City\, 85351\, United States
END:VEVENT
BEGIN:VEVENT
DTSTART;TZID=UTC:20251020T183000
DTEND;TZID=UTC:20251020T203000
DTSTAMP:20260422T221431
CREATED:20250930T152416Z
LAST-MODIFIED:20250930T152416Z
UID:606-1760985000-1760992200@www.ld28gop.com
SUMMARY:LD 28 Monthly Meeting
DESCRIPTION:Speakers include: \nKimberly Yee-Candidate for State Superintendent of Education \nRodney Glassman-Candidate for Attorney General \nDeer Valley Unified School District \nDoors open at 6:00pm and the meeting starts at 6:30pm
URL:https://www.ld28gop.com/event/ld-28-monthly-meeting/
END:VEVENT
BEGIN:VEVENT
DTSTART;TZID=America/Denver:20251021T183000
DTEND;TZID=America/Denver:20251021T200000
DTSTAMP:20260422T221431
CREATED:20251004T145531Z
LAST-MODIFIED:20251004T145531Z
UID:610-1761071400-1761076800@www.ld28gop.com
SUMMARY:Sun city Republican Club  October Event
DESCRIPTION:All RCSC cardholders and their guests are welcome to attend.  Doors open at 6:00 pm for Social and event begins at 6:30pm \nPlease Bring Snacks/deserts to share \nSpeakers include: \nAnn Atkinson \nSeth Leibsohn – KKNT 960am Radio Talk Show Host \nLisa Everett – LD 29 chair \nBurlington Northern Santa Fe Railroad VS Maricopa residents \n  \nIf need further information\, email suncitygopclub@gmail.com
URL:https://www.ld28gop.com/event/sun-city-republican-club-october-event/
LOCATION:Sundial Recreation Center East Hall\, 14801 N 103rd Ave\, Sun City\, AZ\, 85351\, United States
END:VEVENT
BEGIN:VEVENT
DTSTART;TZID=America/Denver:20251022T170000
DTEND;TZID=America/Denver:20251022T210000
DTSTAMP:20260422T221431
CREATED:20251004T154134Z
LAST-MODIFIED:20251004T154134Z
UID:626-1761152400-1761166800@www.ld28gop.com
SUMMARY:OCT 22 WED 5 - 9pm AZ PREMIER 2ND AMENDMENT & USE OF FORCE TRAINING EVENT
DESCRIPTION:Free Admission but must pre-register here https:// \nwww.ticketleap.events/tickets/freeamerica/2atraining \n  \n 
URL:https://www.ld28gop.com/event/oct-22-wed-5-9pm-az-premier-2nd-amendment-use-of-force-training-event/
LOCATION:WVRO\, 10147 W Grand Ave Suite B4\, Sun City\, 85351\, United States
END:VEVENT
BEGIN:VEVENT
DTSTART;TZID=America/Denver:20251024T180000
DTEND;TZID=America/Denver:20251024T200000
DTSTAMP:20260422T221431
CREATED:20251004T154937Z
LAST-MODIFIED:20251004T154937Z
UID:629-1761328800-1761336000@www.ld28gop.com
SUMMARY:OCT 24 FRI 6-8 pm COMEDY NIGHT FUN-RAISER
DESCRIPTION:Ready to put a smile back on your face? Ready to laugh the night away with clean\, uplifting comedy? Connect with friends &neighborts and support a cause to strengthen our community \nFeaturing: • Bob Howard – Attorney\, Musician\, Award-Winning Comic • \nBrian McKay – Humor on family & everyday life • Jay Penn – Las Vegas \nFinalist\, 2x Funniest in the Valley \nCost: $30 per ticket. All funds go directly to support the West Valley Republican \n& Independent office. For convenience\, tickets available through EventBrite (+$3.85 \nfee): https://www.eventbrite.com/e/1720986279289?aff=oddtdtcreator \nTickets also available at the West Valley office by phone: 623-248-5175 \nLocation: TYR Tactical\, 9330 North 91st Avenue\, Peoria \nSeating is limited – don’t delay! \n 
URL:https://www.ld28gop.com/event/oct-24-fri-6-8-pm-comedy-night-fun-raiser/
LOCATION:TYR Tacitcal\, 9930 Bierg 91st Ave\, Peoria\, AZ\, 85345\, United States
END:VEVENT
BEGIN:VEVENT
DTSTART;TZID=America/Denver:20251101T090000
DTEND;TZID=America/Denver:20251101T103000
DTSTAMP:20260422T221431
CREATED:20250830T204034Z
LAST-MODIFIED:20250902T215804Z
UID:560-1761987600-1761993000@www.ld28gop.com
SUMMARY:SUN CITY WEST REPUBLICAN CLUB presents Candidate for AZ Attorney General Rodney Glassman
DESCRIPTION:Door open at 8:30 AM \n$3.00 Admission Fee for Non Members \nAlready a member?  You get in Free! \nNeed more information :  Contact SCW Republican VP Linda Barnes at: \np:  949-533-3277 \nE:  VicePresident@SCWREPUBLICANS.COM OR BarnesLK@AOL.com
URL:https://www.ld28gop.com/event/sun-city-west-republican-club-presents-candidate-for-az-attorney-general-rodney-glassman/
LOCATION:church on the green\, 19051 N R H Johnson Blvd\, Sun city west\, 85375\, United States
END:VEVENT
BEGIN:VEVENT
DTSTART;TZID=America/Denver:20251104T070000
DTEND;TZID=America/Denver:20251104T190000
DTSTAMP:20260422T221431
CREATED:20251004T155155Z
LAST-MODIFIED:20251004T155155Z
UID:633-1762239600-1762282800@www.ld28gop.com
SUMMARY:MARICOPA COUNTY LOCAL ELECTION ON NOVEMBER 4\, 2025
DESCRIPTION:By now most of you will have received several voter guides by mail. One may be from \nWest-MEC\, one from Valleywise Health\, or perhaps from your local school district. \nThese guides provide the pros/cons of the issues on the ballot which are relative to that \nparticular organization. \nWe recognize that many of you will have questions about this election for Maricopa \nCounty. The link below provides you with a comprehensive overview of what this \nelection is all about and what jurisdictions are participating. Many of the ballot issues \nhave to do with Overrides and Bond Issues and this website will educate you on the \ndifferences. Maybe you’re wondering if you “are registered to vote? “ \nPlease go to this website link to learn about this election and have all your questions \nanswered. \nhttps://www.azcleanelections.gov/november-04-2025-election/ \nmaricopa#voters \nHere are the important dates regarding this election: \nOctober 6 – Monday – The last date for voter registration is October 6. \nOctober 8 – Wednesday – Ballots are mailed. \nOctober 24 – Friday – Last day to request early ballot \nOctober 28 – Monday – Last recommended date to mail ballot
URL:https://www.ld28gop.com/event/maricopa-county-local-election-on-november-4-2025/
END:VEVENT
BEGIN:VEVENT
DTSTART;TZID=America/Denver:20251117T183000
DTEND;TZID=America/Denver:20251117T203000
DTSTAMP:20260422T221431
CREATED:20250830T212541Z
LAST-MODIFIED:20251004T151557Z
UID:568-1763404200-1763411400@www.ld28gop.com
SUMMARY:LD 28 MONTHLY MEETING with presentations from Candidates for Public Office
DESCRIPTION:Speakers include: \nWarren Peterson-Candidate for Attorney General \nKarrin Taylor Robson-Candidate for Govenor \nDavid Livingston- Rep LD28 \nBeverly Pingerelli – Rep LD28 \n  \nDoors open at 6:00pm and the meeting starts at 6:30pm
URL:https://www.ld28gop.com/event/ld-28-monthly-meeting-with-presentations-from-candidates-for-public-office/
LOCATION:Westbrook Village Vistas Ballroom\, 18825 N. Country Club Pkwy\, Peoria\, AZ\, 85382\, United States
END:VEVENT
BEGIN:VEVENT
DTSTART;TZID=America/Denver:20251206T090000
DTEND;TZID=America/Denver:20251206T103000
DTSTAMP:20260422T221431
CREATED:20250830T204446Z
LAST-MODIFIED:20250902T215549Z
UID:562-1765011600-1765017000@www.ld28gop.com
SUMMARY:SUN CITY REPUBLICAN CLUB presents Candidate for AZ Secretary of State Alex Kolodin
DESCRIPTION:Door open at 8:30 AM \n$3.00 Admission Fee for Non Members \nAlready a member?  You get in Free! \nNeed more information :  Contact SCW Republican VP Linda Barnes at: \np:  949-533-3277 \nE:  VicePresident@SCWREPUBLICANS.COM OR BarnesLK@AOL.com
URL:https://www.ld28gop.com/event/sun-city-republican-club-presents-candidate-for-az-secretary-of-state-alex-kolodin/
LOCATION:church on the green\, 19051 N R H Johnson Blvd\, Sun city west\, 85375\, United States
END:VEVENT
BEGIN:VEVENT
DTSTART;VALUE=DATE:20260110
DTEND;VALUE=DATE:20260111
DTSTAMP:20260422T221431
CREATED:20251227T191840Z
LAST-MODIFIED:20251227T191840Z
UID:662-1768003200-1768089599@www.ld28gop.com
SUMMARY:MCRC Mandatory Meeting
DESCRIPTION:MCRC Mandatory Meeting \nCredentialing opens at 6:30am\nCredentialing closes at 8:30am \nDream City Church\n13613 N. Cave Creek Rd
URL:https://www.ld28gop.com/event/mcrc-mandatory-meeting/
LOCATION:Dream City Church\, 13613 N Cave Creek Rd\, Phoenix
END:VEVENT
BEGIN:VEVENT
DTSTART;TZID=UTC:20260128T160000
DTEND;TZID=UTC:20260128T190000
DTSTAMP:20260422T221431
CREATED:20251227T185153Z
LAST-MODIFIED:20251227T185153Z
UID:657-1769616000-1769626800@www.ld28gop.com
SUMMARY:Patriot Happy Hour
DESCRIPTION:Patriot Happy Hour Monthly Meet-up \nMeet-up starts at 4:00pm \nState 48 Brewery – Back room\n13823 W. Bell Rd\nSurprise\, AZ 85374
URL:https://www.ld28gop.com/event/patriot-happy-hour/
LOCATION:State 48 Brewery\, 13823 W. Bell Rd\, Surprise\, AZ\, 85374
END:VEVENT
BEGIN:VEVENT
DTSTART;TZID=UTC:20260316T180000
DTEND;TZID=UTC:20260316T210000
DTSTAMP:20260422T221431
CREATED:20251227T190013Z
LAST-MODIFIED:20260315T024937Z
UID:660-1773684000-1773694800@www.ld28gop.com
SUMMARY:LD28 Monthly Meeting
DESCRIPTION:LD28 Monthly Meeting \nDoors open at 6:00pm  \nMeeting starts at 6:30pm \n18825 N. Country Club Pkwy\nPeoria\, AZ 85382
URL:https://www.ld28gop.com/event/ld28-monthly-meeting-2/
LOCATION:Westbrook Village Vistas Ballroom\, 18825 N. Country Club Pkwy\, Peoria\, AZ\, 85382\, United States
END:VEVENT
BEGIN:VEVENT
DTSTART;TZID=UTC:20260317T180000
DTEND;TZID=UTC:20260317T203000
DTSTAMP:20260422T221431
CREATED:20251227T184816Z
LAST-MODIFIED:20260315T025652Z
UID:654-1773770400-1773779400@www.ld28gop.com
SUMMARY:Sun City Republican Club Meeting
DESCRIPTION:Sun City Republican Club Monthly Meeting \nCheck in starts at 6:00pm \nMeeting starts at 6:30pm \n10725 Oakmont Dr.\nSun City\, AZ 85351
URL:https://www.ld28gop.com/event/sun-city-republican-club-meeting/
LOCATION:Oakmont Recreation Center\, 10725 Oakmont Dr.\, Sun City\, AZ\, 85351
END:VEVENT
BEGIN:VEVENT
DTSTART;TZID=UTC:20260321T083000
DTEND;TZID=UTC:20260321T113000
DTSTAMP:20260422T221431
CREATED:20251227T184105Z
LAST-MODIFIED:20260315T025739Z
UID:652-1774081800-1774092600@www.ld28gop.com
SUMMARY:Sun City Grand Republican Club Meeting
DESCRIPTION:Sun City Grand Republican Club Monthly Meeting \nCheck in starts at 8:30am \nMeeting starts at 9:30am \n19051 N RH Johnson BLVD\nSun City West\, AZ 85375
URL:https://www.ld28gop.com/event/sun-city-grand-republican-club-meeting/
LOCATION:R.H. Johnson Recreation Center\, 19051 N RH Johnson BLVD\, Sun City West\, AZ\, 85375\, United States
END:VEVENT
END:VCALENDAR