BEGIN:VCALENDAR
VERSION:2.0
PRODID:-//LD28GOP - ECPv6.15.17.1//NONSGML v1.0//EN
CALSCALE:GREGORIAN
METHOD:PUBLISH
X-ORIGINAL-URL:https://www.ld28gop.com
X-WR-CALDESC:Events for LD28GOP
REFRESH-INTERVAL;VALUE=DURATION:PT1H
X-Robots-Tag:noindex
X-PUBLISHED-TTL:PT1H
BEGIN:VTIMEZONE
TZID:UTC
BEGIN:STANDARD
TZOFFSETFROM:+0000
TZOFFSETTO:+0000
TZNAME:UTC
DTSTART:20250101T000000
END:STANDARD
END:VTIMEZONE
BEGIN:VEVENT
DTSTART;TZID=UTC:20260420T180000
DTEND;TZID=UTC:20260420T210000
DTSTAMP:20260422T220626
CREATED:20260315T025250Z
LAST-MODIFIED:20260315T025250Z
UID:674-1776708000-1776718800@www.ld28gop.com
SUMMARY:LD28 Monthly Meeting
DESCRIPTION:LD28 Monthly Meeting \nDoors open at 6:00pm  \nMeeting starts at 6:30pm \n18825 N. Country Club Pkwy\nPeoria\, AZ 85382
URL:https://www.ld28gop.com/event/ld28-monthly-meeting-3/
LOCATION:Westbrook Village Vistas Ballroom\, 18825 N. Country Club Pkwy\, Peoria\, AZ\, 85382\, United States
END:VEVENT
BEGIN:VEVENT
DTSTART;TZID=UTC:20260518T180000
DTEND;TZID=UTC:20260518T210000
DTSTAMP:20260422T220626
CREATED:20260315T025350Z
LAST-MODIFIED:20260315T025350Z
UID:676-1779127200-1779138000@www.ld28gop.com
SUMMARY:LD28 Monthly Meeting
DESCRIPTION:LD28 Monthly Meeting \nDoors open at 6:00pm  \nMeeting starts at 6:30pm \n18825 N. Country Club Pkwy\nPeoria\, AZ 85382
URL:https://www.ld28gop.com/event/ld28-monthly-meeting-4/
LOCATION:Westbrook Village Vistas Ballroom\, 18825 N. Country Club Pkwy\, Peoria\, AZ\, 85382\, United States
END:VEVENT
BEGIN:VEVENT
DTSTART;TZID=UTC:20260615T180000
DTEND;TZID=UTC:20260615T210000
DTSTAMP:20260422T220626
CREATED:20260315T025450Z
LAST-MODIFIED:20260315T025450Z
UID:678-1781546400-1781557200@www.ld28gop.com
SUMMARY:LD28 Monthly Meeting
DESCRIPTION:LD28 Monthly Meeting \nDoors open at 6:00pm  \nMeeting starts at 6:30pm \n18825 N. Country Club Pkwy\nPeoria\, AZ 85382
URL:https://www.ld28gop.com/event/ld28-monthly-meeting-5/
LOCATION:Westbrook Village Vistas Ballroom\, 18825 N. Country Club Pkwy\, Peoria\, AZ\, 85382\, United States
END:VEVENT
END:VCALENDAR